View In:
Google Earth
ArcGIS JavaScript
View Footprint In:
Google Earth
Service Description:
Name: LAGIC-CADDO/NAIP2007
Description:
Extent:
XMin: 399269.342599869
YMin: 3198917.88018608
XMax: 905494.849157333
YMax: 3660079.76350212
Spatial Reference: 26915
Pixel Size X: 1
Pixel Size Y: 1
Band Count: 3
Pixel Type: U8
Min Pixel Size: 0
Max Pixel Size: 0
Copyright Text:
Service Data Type: esriImageServiceDataTypeRGB
Min Values:
Max Values:
Standard Deviation Values:
Supported Interfaces:
REST
SOAP
WMS
Supported Operations:
Export Image