View In:
Google Earth
ArcGIS JavaScript
View Footprint In:
Google Earth
Service Description:
Name: LAGIC-CADDO/2008doqq_4band
Description:
Extent:
XMin: 404530.920900345
YMin: 3195178.35030174
XMax: 1045450.07909966
YMax: 3481732.64970207
Spatial Reference: 26915
Pixel Size X: 1
Pixel Size Y: 1
Band Count: 4
Pixel Type: U8
Min Pixel Size: 0
Max Pixel Size: 0
Copyright Text:
Service Data Type: esriImageServiceDataTypeGeneric
Min Values: 0, 0, 0, 0
Max Values: 255, 255, 255, 255
Standard Deviation Values: 86.60219, 76.68361, 82.5754, 82.5754
Supported Interfaces:
REST
SOAP
WMS
Supported Operations:
Export Image