View In:
Google Earth
ArcGIS JavaScript
View Footprint In:
Google Earth
Service Description:
Name: LAGIC-CADDO/2008doqq
Description:
Extent:
XMin: 408995.329999924
YMin: 3198733.14234734
XMax: 1041234.74616051
YMax: 3477378.29808235
Spatial Reference: 26915
Pixel Size X: 1
Pixel Size Y: 1
Band Count: 3
Pixel Type: U8
Min Pixel Size: 0
Max Pixel Size: 0
Copyright Text:
Service Data Type: esriImageServiceDataTypeRGB
Min Values:
Max Values:
Standard Deviation Values:
Supported Interfaces:
REST
SOAP
WMS
Supported Operations:
Export Image